BEGIN:VCALENDAR
VERSION:2.0
PRODID:-//wp-events-plugin.com//7.2.3.1//EN
TZID:America/Los_Angeles
X-WR-TIMEZONE:America/Los_Angeles
BEGIN:VEVENT
UID:10877@tbala.org
DTSTART;TZID=America/Los_Angeles:20260203T080000
DTEND;TZID=America/Los_Angeles:20260203T093000
DTSTAMP:20260108T191235Z
URL:https://www.tbala.org/events/tba-lawyers-event-3/
SUMMARY:TBA Lawyers Event
DESCRIPTION:Join us at Beth Am on Tuesday\, February 3 from 8-9:30 am f
 or networking\, breakfast\, and a presentation by criminal defense lawyer 
 Bruce Richland on California's driving-under-the-influence laws and enforc
 ement regime. Attendees will receive one hour of general MCLE credit.\n&nb
 sp\;\n\nPlease register here if you plan to attend: Register Here
CATEGORIES:Interest Groups
END:VEVENT
BEGIN:VTIMEZONE
TZID:America/Los_Angeles
X-LIC-LOCATION:America/Los_Angeles
BEGIN:STANDARD
DTSTART:20251102T010000
TZOFFSETFROM:-0700
TZOFFSETTO:-0800
TZNAME:PST
END:STANDARD
END:VTIMEZONE
END:VCALENDAR