BEGIN:VCALENDAR
VERSION:2.0
PRODID:-//wp-events-plugin.com//7.2.3.1//EN
TZID:America/Los_Angeles
X-WR-TIMEZONE:America/Los_Angeles
BEGIN:VEVENT
UID:7908@tbala.org
DTSTART;TZID=America/Los_Angeles:20260208T080000
DTEND;TZID=America/Los_Angeles:20260208T140000
DTSTAMP:20250828T234945Z
URL:https://www.tbala.org/events/pickleball-at-tba-2026-02-08/
SUMMARY:Pickleball at TBA
DESCRIPTION:Learn more at tbala.org/pickleball.
ATTACH;FMTTYPE=image/jpeg:https://www.tbala.org/wp-content/uploads/2025/08
 /Pickleball-v2-3.png
CATEGORIES:Interest Groups
END:VEVENT
BEGIN:VTIMEZONE
TZID:America/Los_Angeles
X-LIC-LOCATION:America/Los_Angeles
BEGIN:STANDARD
DTSTART:20251102T010000
TZOFFSETFROM:-0700
TZOFFSETTO:-0800
TZNAME:PST
END:STANDARD
END:VTIMEZONE
END:VCALENDAR