BEGIN:VCALENDAR
VERSION:2.0
PRODID:-//wp-events-plugin.com//7.2.3.1//EN
TZID:America/Los_Angeles
X-WR-TIMEZONE:America/Los_Angeles
BEGIN:VEVENT
UID:11251@tbala.org
DTSTART;TZID=America/Los_Angeles:20290224T091500
DTEND;TZID=America/Los_Angeles:20290224T121500
DTSTAMP:20260210T012454Z
URL:https://www.tbala.org/events/isla-karp-bat-mitzvah-in-sanctuary/
SUMMARY:Isla Karp Bat Mitzvah in Sanctuary
DESCRIPTION:
CATEGORIES:B'nei Mitzvah,Shabbat Services
END:VEVENT
BEGIN:VTIMEZONE
TZID:America/Los_Angeles
X-LIC-LOCATION:America/Los_Angeles
BEGIN:STANDARD
DTSTART:20281105T010000
TZOFFSETFROM:-0700
TZOFFSETTO:-0800
TZNAME:PST
END:STANDARD
END:VTIMEZONE
END:VCALENDAR