BEGIN:VCALENDAR
VERSION:2.0
PRODID:-//wp-events-plugin.com//7.2.3.1//EN
TZID:America/Los_Angeles
X-WR-TIMEZONE:America/Los_Angeles
BEGIN:VEVENT
UID:10763@tbala.org
DTSTART;TZID=America/Los_Angeles:20260226T183000
DTEND;TZID=America/Los_Angeles:20260226T183000
DTSTAMP:20260203T213240Z
URL:https://www.tbala.org/events/film-discussion-in-person/
SUMMARY:TBA Film Group Presents: Charles Grodin: Rebel With A Cause
DESCRIPTION:Please join the Film Group for an in-person screening of Rebel 
 With a Cause\, a fascinating documentary about the late Charles Grodin. Th
 e film features interviews with Robert De Niro\, Steve Martin\, Martin Sho
 rt\, Elaine May\, Carol Burnett\, Alan Arkin\, Jon Lovitz\, Marc Maron\, a
 nd many more!\n\nMovie refreshments will be provided\, followed by a speci
 al Q&amp\;A with the filmmaker James Freedman moderated by Michael Berlin.
 \n\nRegister here (free for members)
CATEGORIES:Interest Groups
END:VEVENT
BEGIN:VTIMEZONE
TZID:America/Los_Angeles
X-LIC-LOCATION:America/Los_Angeles
BEGIN:STANDARD
DTSTART:20251102T010000
TZOFFSETFROM:-0700
TZOFFSETTO:-0800
TZNAME:PST
END:STANDARD
END:VTIMEZONE
END:VCALENDAR