BEGIN:VCALENDAR
VERSION:2.0
PRODID:-//wp-events-plugin.com//7.2.3.1//EN
TZID:America/Los_Angeles
X-WR-TIMEZONE:America/Los_Angeles
BEGIN:VEVENT
UID:11267@tbala.org
DTSTART;TZID=America/Los_Angeles:20260528T180000
DTEND;TZID=America/Los_Angeles:20260528T180000
DTSTAMP:20260416T212924Z
URL:https://www.tbala.org/events/film-discussion-group-in-person-screening
 /
SUMMARY:TBA Film Group Presents "Listen" with Filmmaker Omri Bezalel
DESCRIPTION:Please join us for a special screening of LISTEN\, a powerful f
 ilm by Israeli filmmaker Omri Bezalel.\n\nHeavily inspired by the story of
  Gilad Shalit\, LISTEN is a gripping fictional portrayal of the IDF’s in
 ternal struggle over hostage negotiations. The film follows Dara Nevo\, a 
 young soldier in Israel’s elite intelligence unit\, as she races against
  time to rescue a captured Israeli being held deep in Gaza.\n\nA former Is
 raeli Navy SEAL\, author of the novel Silent Waters\, and co-founder of Bi
 g Swell Entertainment\, Omri Bezalel is based in Los Angeles. He will join
  us after the screening for a live Q&amp\;A moderated by Michael Berlin.\n
 \n&nbsp\;\n\nRSVP Here
ATTACH;FMTTYPE=image/jpeg:https://www.tbala.org/wp-content/uploads/2026/02
 /Listen-Film-Screeningv2.png
CATEGORIES:Interest Groups
END:VEVENT
BEGIN:VTIMEZONE
TZID:America/Los_Angeles
X-LIC-LOCATION:America/Los_Angeles
BEGIN:DAYLIGHT
DTSTART:20260308T030000
TZOFFSETFROM:-0800
TZOFFSETTO:-0700
TZNAME:PDT
END:DAYLIGHT
END:VTIMEZONE
END:VCALENDAR