BEGIN:VCALENDAR
VERSION:2.0
PRODID:-//wp-events-plugin.com//7.2.3.1//EN
TZID:America/Los_Angeles
X-WR-TIMEZONE:America/Los_Angeles
BEGIN:VEVENT
UID:11291@tbala.org
DTSTART;TZID=America/Los_Angeles:20260404T093000
DTEND;TZID=America/Los_Angeles:20260404T093000
DTSTAMP:20260318T183148Z
URL:https://www.tbala.org/events/clergy-led-morning-services-with-megillat
 -shir-hashirim/
SUMMARY:Clergy led Morning Services (with Megillat Shir HaShirim)
DESCRIPTION:Clergy led Morning Services (with Megillat Shir HaShirim) and o
 n YouTube in Ganzberg Sanctuary
CATEGORIES:Passover,Shabbat Services
END:VEVENT
BEGIN:VTIMEZONE
TZID:America/Los_Angeles
X-LIC-LOCATION:America/Los_Angeles
BEGIN:DAYLIGHT
DTSTART:20260308T030000
TZOFFSETFROM:-0800
TZOFFSETTO:-0700
TZNAME:PDT
END:DAYLIGHT
END:VTIMEZONE
END:VCALENDAR